BEGIN:VCALENDAR
VERSION:2.0
PRODID:-//CCT Reunion - Las Vegas - ECPv6.15.20//NONSGML v1.0//EN
CALSCALE:GREGORIAN
METHOD:PUBLISH
X-ORIGINAL-URL:https://cctreunionlasvegas.com
X-WR-CALDESC:Events for CCT Reunion - Las Vegas
REFRESH-INTERVAL;VALUE=DURATION:PT1H
X-Robots-Tag:noindex
X-PUBLISHED-TTL:PT1H
BEGIN:VTIMEZONE
TZID:America/Los_Angeles
BEGIN:DAYLIGHT
TZOFFSETFROM:-0800
TZOFFSETTO:-0700
TZNAME:PDT
DTSTART:20250309T100000
END:DAYLIGHT
BEGIN:STANDARD
TZOFFSETFROM:-0700
TZOFFSETTO:-0800
TZNAME:PST
DTSTART:20251102T090000
END:STANDARD
BEGIN:DAYLIGHT
TZOFFSETFROM:-0800
TZOFFSETTO:-0700
TZNAME:PDT
DTSTART:20260308T100000
END:DAYLIGHT
BEGIN:STANDARD
TZOFFSETFROM:-0700
TZOFFSETTO:-0800
TZNAME:PST
DTSTART:20261101T090000
END:STANDARD
BEGIN:DAYLIGHT
TZOFFSETFROM:-0800
TZOFFSETTO:-0700
TZNAME:PDT
DTSTART:20270314T100000
END:DAYLIGHT
BEGIN:STANDARD
TZOFFSETFROM:-0700
TZOFFSETTO:-0800
TZNAME:PST
DTSTART:20271107T090000
END:STANDARD
END:VTIMEZONE
BEGIN:VEVENT
DTSTART;TZID=America/Los_Angeles:20260426T083000
DTEND;TZID=America/Los_Angeles:20260426T120000
DTSTAMP:20260425T084324
CREATED:20220402T182109Z
LAST-MODIFIED:20250705T180619Z
UID:1977-1777192200-1777204800@cctreunionlasvegas.com
SUMMARY:2026 - CCTRLV Committee AAR & 2027 - IPC (Garden Buffet)
DESCRIPTION:CCT Reunion LAS VEGAS Committee After Action Report (AAR) & Initial Planning Conference (IPC) to be held at the Garden Buffet to discuss the 2026 Lessons Learned and to serve as our IPC for the 2027 CCT Reunion – Las Vegas.  This meeting is intended for committee members and coordinators; however\, anyone is welcome to attend.  That said\, we ask that other attendees allow enough space so that the official party can sit close enough to facilitate proper discussions without having to scream across the table to be heard. \nAdd this event to your calendar!\n+ Google Calendar for Android\n+ iCal Export for iOS/Apple
URL:https://cctreunionlasvegas.com/event/cctrlv-annual-meeting/
LOCATION:South Point Hotel & Casino – Garden Buffet\, 9777 Las Vegas Blvd South\, Las Vegas\, NV\, 89183\, United States
CATEGORIES:Meeting
END:VEVENT
END:VCALENDAR